BEGIN:VCALENDAR
PRODID:-//eluceo/ical//2.0/EN
VERSION:2.0
CALSCALE:GREGORIAN
BEGIN:VEVENT
UID:8898480788a4d8b6d55f888bcf6d1ee7
DTSTAMP:20260425T172556Z
SUMMARY:Festival de la BD
DESCRIPTION:https://kermeszalest.com/en/agenda/festival-de-la-bd
DTSTART;VALUE=DATE:20180506
DTEND;VALUE=DATE:20180507
LOCATION:
END:VEVENT
END:VCALENDAR
