BEGIN:VCALENDAR
PRODID:-//eluceo/ical//2.0/EN
VERSION:2.0
CALSCALE:GREGORIAN
BEGIN:VEVENT
UID:5ecad6c5294ca92576a203a8113ec61d
DTSTAMP:20260425T172922Z
SUMMARY:Festival de la BD
DESCRIPTION:https://kermeszalest.com/en/agenda/festival-de-la-bd-1
DTSTART;VALUE=DATE:20170506
DTEND;VALUE=DATE:20170507
LOCATION:
END:VEVENT
END:VCALENDAR
