BEGIN:VCALENDAR
PRODID:-//eluceo/ical//2.0/EN
VERSION:2.0
CALSCALE:GREGORIAN
BEGIN:VEVENT
UID:4605a234008d6c2f0c5a2fed8ac2ff83
DTSTAMP:20260422T230419Z
SUMMARY:Faites du Feu! #2
DESCRIPTION:https://kermeszalest.com/en/agenda/faites-du-feu-2
DTSTART;VALUE=DATE:20210627
DTEND;VALUE=DATE:20210628
LOCATION:Chemin du Halage (GPS : 50.589202\, 3.424022)
END:VEVENT
END:VCALENDAR
