BEGIN:VCALENDAR
PRODID:-//eluceo/ical//2.0/EN
VERSION:2.0
CALSCALE:GREGORIAN
BEGIN:VEVENT
UID:04b3623e15ba1e3e397d5f1c9175b2ed
DTSTAMP:20260425T142357Z
SUMMARY:Eden
DESCRIPTION:https://kermeszalest.com/en/agenda/eden-2
DTSTART;VALUE=DATE:20141212
DTEND;VALUE=DATE:20141213
LOCATION:
END:VEVENT
END:VCALENDAR
