BEGIN:VCALENDAR
PRODID:-//eluceo/ical//2.0/EN
VERSION:2.0
CALSCALE:GREGORIAN
BEGIN:VEVENT
UID:050d6e0ef2d677263e8d7d33681b5f89
DTSTAMP:20260425T111855Z
SUMMARY:Eden
DESCRIPTION:https://kermeszalest.com/en/agenda/eden-1
DTSTART;VALUE=DATE:20161002
DTEND;VALUE=DATE:20161003
LOCATION:
END:VEVENT
END:VCALENDAR
