BEGIN:VCALENDAR
PRODID:-//eluceo/ical//2.0/EN
VERSION:2.0
CALSCALE:GREGORIAN
BEGIN:VEVENT
UID:828fd5d13c96a236552ef3a9e7d20ba1
DTSTAMP:20260425T173129Z
SUMMARY:Circoplast festival
DESCRIPTION:https://kermeszalest.com/en/agenda/circoplast-festival
DTSTART;VALUE=DATE:20171028
DTEND;VALUE=DATE:20171029
LOCATION:
END:VEVENT
END:VCALENDAR
