BEGIN:VCALENDAR
PRODID:-//eluceo/ical//2.0/EN
VERSION:2.0
CALSCALE:GREGORIAN
BEGIN:VEVENT
UID:8d0ed15707c6216de3f9f00b820b9726
DTSTAMP:20260425T172337Z
SUMMARY:Balkan Trafik - POSTPONED
DESCRIPTION:https://kermeszalest.com/en/agenda/balkan-trafik
DTSTART;VALUE=DATE:20200425
DTEND;VALUE=DATE:20200426
LOCATION:
END:VEVENT
END:VCALENDAR
