BEGIN:VCALENDAR
PRODID:-//eluceo/ical//2.0/EN
VERSION:2.0
CALSCALE:GREGORIAN
BEGIN:VEVENT
UID:bdf6fd1c31b38a6d7d8c7c286c815da0
DTSTAMP:20260424T004338Z
SUMMARY:Brasspartij
DESCRIPTION:https://kermeszalest.com/en/agenda/b
DTSTART;VALUE=DATE:20240519
DTEND;VALUE=DATE:20240520
LOCATION:
END:VEVENT
END:VCALENDAR
