BEGIN:VCALENDAR
PRODID:-//eluceo/ical//2.0/EN
VERSION:2.0
CALSCALE:GREGORIAN
BEGIN:VEVENT
UID:4a9cc1e97dc5c2d86b502c5b410d45f2
DTSTAMP:20260425T125502Z
SUMMARY:Artifoire
DESCRIPTION:https://kermeszalest.com/en/agenda/artifoire
DTSTART;VALUE=DATE:20150719
DTEND;VALUE=DATE:20150720
LOCATION:
END:VEVENT
END:VCALENDAR
