BEGIN:VCALENDAR
PRODID:-//eluceo/ical//2.0/EN
VERSION:2.0
CALSCALE:GREGORIAN
BEGIN:VEVENT
UID:4d98e949b59245f761345fc1afb50d89
DTSTAMP:20260425T173222Z
SUMMARY:Achterhoek Spektakeltoer
DESCRIPTION:https://kermeszalest.com/en/agenda/achterhoek-spektakeltoer
DTSTART;VALUE=DATE:20110728
DTEND;VALUE=DATE:20110729
LOCATION:
END:VEVENT
END:VCALENDAR
